BEGIN:VCALENDAR
VERSION:2.0
PRODID:-//Sabre//Sabre VObject 3.5.3//EN
CALSCALE:GREGORIAN
BEGIN:VTIMEZONE
TZID:Europe/London
BEGIN:STANDARD
TZNAME:GMT
DTSTART:19701025T020000
RRULE:FREQ=YEARLY;BYMONTH=10;BYDAY=-1SU
TZOFFSETFROM:+0100
TZOFFSETTO:+0000
END:STANDARD
BEGIN:DAYLIGHT
TZNAME:BST
DTSTART:19700329T010000
RRULE:FREQ=YEARLY;BYMONTH=3;BYDAY=-1SU
TZOFFSETFROM:+0000
TZOFFSETTO:+0100
END:DAYLIGHT
END:VTIMEZONE
BEGIN:VEVENT
UID:event_316345@sypmusic.info
DTSTART;VALUE=DATE:20270307
DURATION:P1D
SUMMARY:Yorkshire Regional Championships
DESCRIPTION:For full event details\, visit: https://www.sypmusic.info/dbpag
 e.php?pg=view&dbase=events&id=316345
LOCATION:Huddersfield Town Hall\, Ramsden St\, \, Huddersfield \, HT1 2TA
URL:https://www.sypmusic.info/dbpage.php?pg=view&dbase=events&id=316345
END:VEVENT
END:VCALENDAR
