BEGIN:VCALENDAR
VERSION:2.0
PRODID:-//Sabre//Sabre VObject 3.5.3//EN
CALSCALE:GREGORIAN
BEGIN:VTIMEZONE
TZID:Europe/London
BEGIN:STANDARD
TZNAME:GMT
DTSTART:19701025T020000
RRULE:FREQ=YEARLY;BYMONTH=10;BYDAY=-1SU
TZOFFSETFROM:+0100
TZOFFSETTO:+0000
END:STANDARD
BEGIN:DAYLIGHT
TZNAME:BST
DTSTART:19700329T010000
RRULE:FREQ=YEARLY;BYMONTH=3;BYDAY=-1SU
TZOFFSETFROM:+0000
TZOFFSETTO:+0100
END:DAYLIGHT
END:VTIMEZONE
BEGIN:VEVENT
UID:event_311285@sypmusic.info
DTSTART;TZID=Europe/London:20261206T151000
DTEND;TZID=Europe/London:20261206T173000
SUMMARY:Barnsley Hospice Light Up a Life Service
DESCRIPTION:For full event details\, visit: https://www.sypmusic.info/lual2
 6
LOCATION:Church St\, \, Barnsley \, S70 2AH
URL:https://www.sypmusic.info/lual26
END:VEVENT
END:VCALENDAR
